BEGIN:VCALENDAR
VERSION:2.0
PRODID:icalendar-ruby
CALSCALE:GREGORIAN
METHOD:PUBLISH
BEGIN:VEVENT
DTSTAMP:20260422T222525Z
UID:6-2769616@worldwideacceptanceministries.com
DTSTART:20260930T010000Z
DTEND:20260930T020000Z
CLASS:PUBLIC
CREATED:20260422T161455
DESCRIPTION:Bible Study
LAST-MODIFIED:20260422T161455
LOCATION:Unit 40\, 2333 18 Avenue Northeast 
SUMMARY:Bible Study
URL;VALUE=URI:https://www.worldwideacceptanceministries.com/events/bible-st
 udy/2026-09-29
ATTACH;FILENAME=2.png;FMTTYPE=image/png:https://dq5pwpg1q8ru0.cloudfront.ne
 t/2025/05/03/22/31/35/05c86559-7ef3-4a05-80c1-857719e55e2a/2.png
END:VEVENT
END:VCALENDAR
